BEGIN:VCALENDAR
VERSION:2.0
PRODID:-//Savers Marketing - ECPv6.15.17//NONSGML v1.0//EN
CALSCALE:GREGORIAN
METHOD:PUBLISH
X-WR-CALNAME:Savers Marketing
X-ORIGINAL-URL:https://saversmarketing.com
X-WR-CALDESC:Events for Savers Marketing
REFRESH-INTERVAL;VALUE=DURATION:PT1H
X-Robots-Tag:noindex
X-PUBLISHED-TTL:PT1H
BEGIN:VTIMEZONE
TZID:America/New_York
BEGIN:DAYLIGHT
TZOFFSETFROM:-0500
TZOFFSETTO:-0400
TZNAME:EDT
DTSTART:20250309T070000
END:DAYLIGHT
BEGIN:STANDARD
TZOFFSETFROM:-0400
TZOFFSETTO:-0500
TZNAME:EST
DTSTART:20251102T060000
END:STANDARD
BEGIN:DAYLIGHT
TZOFFSETFROM:-0500
TZOFFSETTO:-0400
TZNAME:EDT
DTSTART:20260308T070000
END:DAYLIGHT
BEGIN:STANDARD
TZOFFSETFROM:-0400
TZOFFSETTO:-0500
TZNAME:EST
DTSTART:20261101T060000
END:STANDARD
BEGIN:DAYLIGHT
TZOFFSETFROM:-0500
TZOFFSETTO:-0400
TZNAME:EDT
DTSTART:20270314T070000
END:DAYLIGHT
BEGIN:STANDARD
TZOFFSETFROM:-0400
TZOFFSETTO:-0500
TZNAME:EST
DTSTART:20271107T060000
END:STANDARD
END:VTIMEZONE
BEGIN:VEVENT
DTSTART;TZID=America/New_York:20260330T113000
DTEND;TZID=America/New_York:20260330T120000
DTSTAMP:20260421T121122
CREATED:20260302T130217Z
LAST-MODIFIED:20260302T130304Z
UID:15135-1774870200-1774872000@saversmarketing.com
SUMMARY:Effective Use of Market Analytics Data
DESCRIPTION:
URL:https://saversmarketing.com/event/effective-use-of-market-analytics-data/
END:VEVENT
BEGIN:VEVENT
DTSTART;TZID=America/New_York:20260331T100000
DTEND;TZID=America/New_York:20260331T103000
DTSTAMP:20260421T121122
CREATED:20260302T125805Z
LAST-MODIFIED:20260302T125817Z
UID:15125-1774951200-1774953000@saversmarketing.com
SUMMARY:Client Management with Custom Tags
DESCRIPTION:
URL:https://saversmarketing.com/event/client-management-with-custom-tags/
END:VEVENT
BEGIN:VEVENT
DTSTART;TZID=America/New_York:20260331T110000
DTEND;TZID=America/New_York:20260331T113000
DTSTAMP:20260421T121122
CREATED:20260226T211339Z
LAST-MODIFIED:20260226T211339Z
UID:15110-1774954800-1774956600@saversmarketing.com
SUMMARY:ManhattanLife Med Supp Showcase
DESCRIPTION:
URL:https://saversmarketing.com/event/manhattanlife-med-supp-showcase/
END:VEVENT
BEGIN:VEVENT
DTSTART;TZID=America/New_York:20260331T130000
DTEND;TZID=America/New_York:20260331T133000
DTSTAMP:20260421T121122
CREATED:20260226T211416Z
LAST-MODIFIED:20260323T121139Z
UID:15112-1774962000-1774963800@saversmarketing.com
SUMMARY:Master the Mechanics of Med Supp High Deductible Plan G
DESCRIPTION:
URL:https://saversmarketing.com/event/master-the-mechanics-of-med-supp-high-deductible-plan-g/
END:VEVENT
BEGIN:VEVENT
DTSTART;TZID=America/New_York:20260331T153000
DTEND;TZID=America/New_York:20260331T160000
DTSTAMP:20260421T121122
CREATED:20260226T211458Z
LAST-MODIFIED:20260226T211512Z
UID:15114-1774971000-1774972800@saversmarketing.com
SUMMARY:UnitedHealthOne - ACA Alternatives
DESCRIPTION:
URL:https://saversmarketing.com/event/unitedhealthone-aca-alternatives/
END:VEVENT
BEGIN:VEVENT
DTSTART;TZID=America/New_York:20260401T110000
DTEND;TZID=America/New_York:20260401T120000
DTSTAMP:20260421T121122
CREATED:20260330T205041Z
LAST-MODIFIED:20260330T205132Z
UID:15222-1775041200-1775044800@saversmarketing.com
SUMMARY:Creating Lifetime Clients
DESCRIPTION:
URL:https://saversmarketing.com/event/creating-lifetime-clients/
END:VEVENT
BEGIN:VEVENT
DTSTART;TZID=America/New_York:20260406T113000
DTEND;TZID=America/New_York:20260406T120000
DTSTAMP:20260421T121122
CREATED:20260330T203958Z
LAST-MODIFIED:20260330T203958Z
UID:15214-1775475000-1775476800@saversmarketing.com
SUMMARY:CSG App: One EApplication for Multiple Carriers
DESCRIPTION:
URL:https://saversmarketing.com/event/csg-app-one-eapplication-for-multiple-carriers/
END:VEVENT
BEGIN:VEVENT
DTSTART;TZID=America/New_York:20260406T130000
DTEND;TZID=America/New_York:20260406T133000
DTSTAMP:20260421T121122
CREATED:20260327T145840Z
LAST-MODIFIED:20260327T145840Z
UID:15165-1775480400-1775482200@saversmarketing.com
SUMMARY:The AFLAC Med Supp Showcase
DESCRIPTION:
URL:https://saversmarketing.com/event/the-aflac-med-supp-showcase-9/
END:VEVENT
BEGIN:VEVENT
DTSTART;TZID=America/New_York:20260407T100000
DTEND;TZID=America/New_York:20260407T103000
DTSTAMP:20260421T121122
CREATED:20260330T203358Z
LAST-MODIFIED:20260330T203456Z
UID:15209-1775556000-1775557800@saversmarketing.com
SUMMARY:IntegrityCONNECT: New Calendar & Meeting Scheduler
DESCRIPTION:
URL:https://saversmarketing.com/event/integrityconnect-new-calendar-meeting-scheduler/
END:VEVENT
BEGIN:VEVENT
DTSTART;TZID=America/New_York:20260407T140000
DTEND;TZID=America/New_York:20260407T143000
DTSTAMP:20260421T121122
CREATED:20260327T145936Z
LAST-MODIFIED:20260327T145948Z
UID:15167-1775570400-1775572200@saversmarketing.com
SUMMARY:HealthSpring Med Supp Showcase
DESCRIPTION:
URL:https://saversmarketing.com/event/healthspring-med-supp-showcase/
END:VEVENT
BEGIN:VEVENT
DTSTART;TZID=America/New_York:20260408T130000
DTEND;TZID=America/New_York:20260408T133000
DTSTAMP:20260421T121122
CREATED:20260327T150035Z
LAST-MODIFIED:20260327T150035Z
UID:15169-1775653200-1775655000@saversmarketing.com
SUMMARY:The Liberty Bankers (ABL) Med Supp Showcase
DESCRIPTION:
URL:https://saversmarketing.com/event/the-liberty-bankers-abl-med-supp-showcase/
END:VEVENT
BEGIN:VEVENT
DTSTART;TZID=America/New_York:20260408T130000
DTEND;TZID=America/New_York:20260408T140000
DTSTAMP:20260421T121122
CREATED:20260407T191617Z
LAST-MODIFIED:20260407T191629Z
UID:15246-1775653200-1775656800@saversmarketing.com
SUMMARY:CMS 2027 Final Rule Webinar
DESCRIPTION:CMS has released the 2027 Medicare Advantage and Part D Policy and Technical Updates Final Rule\, introducing changes that will directly impact plan strategy\, compliance\, Star Ratings and beneficiary experience.
URL:https://saversmarketing.com/event/cms-2027-final-rule-webinar/
END:VEVENT
BEGIN:VEVENT
DTSTART;TZID=America/New_York:20260408T140000
DTEND;TZID=America/New_York:20260408T143000
DTSTAMP:20260421T121122
CREATED:20260327T150122Z
LAST-MODIFIED:20260327T150146Z
UID:15171-1775656800-1775658600@saversmarketing.com
SUMMARY:INA Med Supp Showcase
DESCRIPTION:
URL:https://saversmarketing.com/event/ina-med-supp-showcase-2/
END:VEVENT
BEGIN:VEVENT
DTSTART;TZID=America/New_York:20260408T150000
DTEND;TZID=America/New_York:20260408T153000
DTSTAMP:20260421T121122
CREATED:20260327T150306Z
LAST-MODIFIED:20260327T150347Z
UID:15173-1775660400-1775662200@saversmarketing.com
SUMMARY:MASTERING MED SUPP UNDERWRITING
DESCRIPTION:
URL:https://saversmarketing.com/event/mastering-med-supp-underwriting/
END:VEVENT
BEGIN:VEVENT
DTSTART;TZID=America/New_York:20260409T140000
DTEND;TZID=America/New_York:20260409T143000
DTSTAMP:20260421T121122
CREATED:20260327T150430Z
LAST-MODIFIED:20260327T150430Z
UID:15175-1775743200-1775745000@saversmarketing.com
SUMMARY:Humana Achieve Med Supp Showcase
DESCRIPTION:
URL:https://saversmarketing.com/event/humana-achieve-med-supp-showcase/
END:VEVENT
BEGIN:VEVENT
DTSTART;TZID=America/New_York:20260413T113000
DTEND;TZID=America/New_York:20260413T120000
DTSTAMP:20260421T121122
CREATED:20260330T204103Z
LAST-MODIFIED:20260330T204130Z
UID:15216-1776079800-1776081600@saversmarketing.com
SUMMARY:CSG App: Side by Side Plan Comparisons
DESCRIPTION:
URL:https://saversmarketing.com/event/csg-app-side-by-side-plan-comparisons/
END:VEVENT
BEGIN:VEVENT
DTSTART;TZID=America/New_York:20260414T100000
DTEND;TZID=America/New_York:20260414T103000
DTSTAMP:20260421T121122
CREATED:20260330T203604Z
LAST-MODIFIED:20260330T203618Z
UID:15212-1776160800-1776162600@saversmarketing.com
SUMMARY:IntegrityCONNECT: Automate & Save on Leads
DESCRIPTION:
URL:https://saversmarketing.com/event/integrityconnect-automate-save-on-leads/
END:VEVENT
BEGIN:VEVENT
DTSTART;TZID=America/New_York:20260414T140000
DTEND;TZID=America/New_York:20260414T143000
DTSTAMP:20260421T121122
CREATED:20260327T150529Z
LAST-MODIFIED:20260327T150529Z
UID:15177-1776175200-1776177000@saversmarketing.com
SUMMARY:Mastering The Mystery of Med Supps - Part 1
DESCRIPTION:
URL:https://saversmarketing.com/event/mastering-the-mystery-of-med-supps-part-1-3/
END:VEVENT
BEGIN:VEVENT
DTSTART;TZID=America/New_York:20260415T150000
DTEND;TZID=America/New_York:20260415T153000
DTSTAMP:20260421T121122
CREATED:20260327T150614Z
LAST-MODIFIED:20260327T150614Z
UID:15179-1776265200-1776267000@saversmarketing.com
SUMMARY:The WOODMENLIFE Med Supp Showcase
DESCRIPTION:
URL:https://saversmarketing.com/event/the-woodmenlife-med-supp-showcase-5/
END:VEVENT
BEGIN:VEVENT
DTSTART;TZID=America/New_York:20260416T110000
DTEND;TZID=America/New_York:20260416T120000
DTSTAMP:20260421T121122
CREATED:20260327T150703Z
LAST-MODIFIED:20260327T150703Z
UID:15181-1776337200-1776340800@saversmarketing.com
SUMMARY:Queen of the Bundle: Building Packages of Protection your clients actually NEED with NECESSARY PRODUCTS
DESCRIPTION:
URL:https://saversmarketing.com/event/queen-of-the-bundle-building-packages-of-protection-your-clients-actually-need-with-necessary-products/
END:VEVENT
BEGIN:VEVENT
DTSTART;TZID=America/New_York:20260416T153000
DTEND;TZID=America/New_York:20260416T160000
DTSTAMP:20260421T121122
CREATED:20260414T192358Z
LAST-MODIFIED:20260414T192409Z
UID:15262-1776353400-1776355200@saversmarketing.com
SUMMARY:ManhattanLife NEW Enhanced HHC Plan
DESCRIPTION:ManhattanLife is pleased to introduce Home Health Care Enhanced\, their newly upgraded home health care solution. Featuring a first-of-its-kind Homemaker Benefit\, broader age eligibility\, and a suite of thoughtfully designed enhancements\, this coverage offers meaningful protection for policyholders and the people who matter most to them. Benefits and features include… \n\n\nIssue ages updated to 18-89 \n\n\nEnhanced Prescription Drug Benefits…$900 per year max for the Deluxe plan \n\n\nNew Homemaker Benefit…Receive care at home from an unlicensed family member\, neighbor or friend. No certification required! \n\n\nIncreased Home Health Care Aide Benefit…Now $40 / $100 / $150 \n\n\nThis new plan will be a game-changer in the Senior market! Catch this webinar and make sure that you’re appointed with ManhattanLife.
URL:https://saversmarketing.com/event/manhattanlife-new-enhanced-hhc-plan/
END:VEVENT
BEGIN:VEVENT
DTSTART;TZID=America/New_York:20260417T140000
DTEND;TZID=America/New_York:20260417T143000
DTSTAMP:20260421T121122
CREATED:20260327T150918Z
LAST-MODIFIED:20260327T150925Z
UID:15183-1776434400-1776436200@saversmarketing.com
SUMMARY:Client Needs Assessment
DESCRIPTION:
URL:https://saversmarketing.com/event/client-needs-assessment-6/
END:VEVENT
BEGIN:VEVENT
DTSTART;TZID=America/New_York:20260420T113000
DTEND;TZID=America/New_York:20260420T120000
DTSTAMP:20260421T121122
CREATED:20260330T204225Z
LAST-MODIFIED:20260330T204225Z
UID:15218-1776684600-1776686400@saversmarketing.com
SUMMARY:CSG App: New to CSG App Training
DESCRIPTION:
URL:https://saversmarketing.com/event/csg-app-new-to-csg-app-training/
END:VEVENT
BEGIN:VEVENT
DTSTART;TZID=America/New_York:20260420T150000
DTEND;TZID=America/New_York:20260420T153000
DTSTAMP:20260421T121122
CREATED:20260327T151015Z
LAST-MODIFIED:20260327T151015Z
UID:15185-1776697200-1776699000@saversmarketing.com
SUMMARY:The UHC One - Quote & Enroll
DESCRIPTION:
URL:https://saversmarketing.com/event/the-uhc-one-quote-enroll/
END:VEVENT
BEGIN:VEVENT
DTSTART;TZID=America/New_York:20260421T140000
DTEND;TZID=America/New_York:20260421T143000
DTSTAMP:20260421T121122
CREATED:20260327T151058Z
LAST-MODIFIED:20260327T151107Z
UID:15187-1776780000-1776781800@saversmarketing.com
SUMMARY:Plan N For The Win
DESCRIPTION:
URL:https://saversmarketing.com/event/plan-n-for-the-win-19/
END:VEVENT
BEGIN:VEVENT
DTSTART;TZID=America/New_York:20260422T140000
DTEND;TZID=America/New_York:20260422T143000
DTSTAMP:20260421T121122
CREATED:20260327T151154Z
LAST-MODIFIED:20260327T151154Z
UID:15189-1776866400-1776868200@saversmarketing.com
SUMMARY:Mastering The Mystery of Med Supps - Part 2
DESCRIPTION:
URL:https://saversmarketing.com/event/mastering-the-mystery-of-med-supps-part-2-5/
END:VEVENT
BEGIN:VEVENT
DTSTART;TZID=America/New_York:20260423T110000
DTEND;TZID=America/New_York:20260423T120000
DTSTAMP:20260421T121122
CREATED:20260414T192502Z
LAST-MODIFIED:20260414T195024Z
UID:15265-1776942000-1776945600@saversmarketing.com
SUMMARY:Physicians Mutual
DESCRIPTION:
URL:https://saversmarketing.com/event/physicians-mutual/
END:VEVENT
BEGIN:VEVENT
DTSTART;TZID=America/New_York:20260424T100000
DTEND;TZID=America/New_York:20260424T110000
DTSTAMP:20260421T121122
CREATED:20260327T151314Z
LAST-MODIFIED:20260327T151325Z
UID:15191-1777024800-1777028400@saversmarketing.com
SUMMARY:Queen of the Bundle: Building Packages of Protection your clients actually NEED with NECESSARY PRODUCTS
DESCRIPTION:
URL:https://saversmarketing.com/event/queen-of-the-bundle-building-packages-of-protection-your-clients-actually-need-with-necessary-products-2/
END:VEVENT
BEGIN:VEVENT
DTSTART;TZID=America/New_York:20260427T113000
DTEND;TZID=America/New_York:20260427T120000
DTSTAMP:20260421T121122
CREATED:20260330T204504Z
LAST-MODIFIED:20260330T204508Z
UID:15220-1777289400-1777291200@saversmarketing.com
SUMMARY:CSG App: Add a Quoting Tool to Your Website
DESCRIPTION:
URL:https://saversmarketing.com/event/csg-app-add-a-quoting-tool-to-your-website/
END:VEVENT
BEGIN:VEVENT
DTSTART;TZID=America/New_York:20260428T110000
DTEND;TZID=America/New_York:20260428T113000
DTSTAMP:20260421T121122
CREATED:20260327T151433Z
LAST-MODIFIED:20260327T151433Z
UID:15193-1777374000-1777375800@saversmarketing.com
SUMMARY:Manhattan Life Med Supp Showcase
DESCRIPTION:
URL:https://saversmarketing.com/event/manhattan-life-med-supp-showcase/
END:VEVENT
END:VCALENDAR